Package: cogena Version: 1.44.0 Command: rm -rf cogena.buildbin-libdir && mkdir cogena.buildbin-libdir && /Users/biocbuild/BBS/utils/build-universal.sh cogena_1.44.0.tar.gz /Library/Frameworks/R.framework/Resources/bin/R cogena.buildbin-libdir StartedAt: 2025-10-30 05:20:09 -0400 (Thu, 30 Oct 2025) EndedAt: 2025-10-30 05:20:16 -0400 (Thu, 30 Oct 2025) EllapsedTime: 7.1 seconds RetCode: 0 Status: OK PackageFile: cogena_1.44.0.tgz PackageFileSize: 7.702 MiB