Package: codelink Version: 1.78.0 Command: /Library/Frameworks/R.framework/Resources/bin/R CMD INSTALL codelink StartedAt: 2025-10-30 15:26:33 -0400 (Thu, 30 Oct 2025) EndedAt: 2025-10-30 15:26:57 -0400 (Thu, 30 Oct 2025) EllapsedTime: 23.7 seconds RetCode: 0 Status: OK