Package: codelink Version: 1.78.0 Command: /Library/Frameworks/R.framework/Resources/bin/R CMD build --keep-empty-dirs --no-resave-data codelink StartedAt: 2025-10-31 16:36:44 -0400 (Fri, 31 Oct 2025) EndedAt: 2025-10-31 16:37:27 -0400 (Fri, 31 Oct 2025) EllapsedTime: 43.5 seconds RetCode: 0 Status: OK PackageFile: codelink_1.78.0.tar.gz PackageFileSize: 3.18 MiB