Package: codelink Version: 1.78.0 Command: rm -rf codelink.buildbin-libdir && mkdir codelink.buildbin-libdir && /Users/biocbuild/BBS/utils/build-universal.sh codelink_1.78.0.tar.gz /Library/Frameworks/R.framework/Resources/bin/R codelink.buildbin-libdir StartedAt: 2025-11-01 01:28:09 -0400 (Sat, 01 Nov 2025) EndedAt: 2025-11-01 01:28:34 -0400 (Sat, 01 Nov 2025) EllapsedTime: 25.5 seconds RetCode: 0 Status: OK PackageFile: codelink_1.78.0.tgz PackageFileSize: 3.573 MiB