Package: codelink Version: 1.77.0 Command: /Library/Frameworks/R.framework/Resources/bin/R CMD INSTALL codelink StartedAt: 2025-10-24 15:12:34 -0400 (Fri, 24 Oct 2025) EndedAt: 2025-10-24 15:12:40 -0400 (Fri, 24 Oct 2025) EllapsedTime: 6.3 seconds RetCode: 0 Status: OK