Package: coRdon Version: 1.28.0 Command: /home/biocbuild/bbs-3.22-bioc/R/bin/R CMD INSTALL coRdon StartedAt: 2025-10-29 21:31:43 -0400 (Wed, 29 Oct 2025) EndedAt: 2025-10-29 21:32:00 -0400 (Wed, 29 Oct 2025) EllapsedTime: 16.3 seconds RetCode: 0 Status: OK