Package: coRdon Version: 1.28.0 Command: /home/biocbuild/bbs-3.22-bioc/R/bin/R CMD build --keep-empty-dirs --no-resave-data --md5 coRdon StartedAt: 2025-10-29 23:17:19 -0400 (Wed, 29 Oct 2025) EndedAt: 2025-10-29 23:18:06 -0400 (Wed, 29 Oct 2025) EllapsedTime: 47.0 seconds RetCode: 0 Status: OK PackageFile: coRdon_1.28.0.tar.gz PackageFileSize: 2.201 MiB