Package: coGPS Version: 1.53.0 Command: /home/biocbuild/bbs-3.22-bioc/R/bin/R CMD INSTALL coGPS StartedAt: 2025-10-24 15:13:13 -0400 (Fri, 24 Oct 2025) EndedAt: 2025-10-24 15:13:24 -0400 (Fri, 24 Oct 2025) EllapsedTime: 11.1 seconds RetCode: 0 Status: OK