Package: coGPS Version: 1.53.0 Command: /home/biocbuild/bbs-3.22-bioc/R/bin/R CMD build --keep-empty-dirs --no-resave-data --md5 coGPS StartedAt: 2025-10-24 17:06:31 -0400 (Fri, 24 Oct 2025) EndedAt: 2025-10-24 17:06:41 -0400 (Fri, 24 Oct 2025) EllapsedTime: 10.0 seconds RetCode: 0 Status: OK PackageFile: coGPS_1.53.0.tar.gz PackageFileSize: 1.762 MiB