Package: cn.mops Version: 1.55.1 Command: /home/biocbuild/bbs-3.22-bioc/R/bin/R CMD INSTALL cn.mops StartedAt: 2025-10-24 15:26:42 -0400 (Fri, 24 Oct 2025) EndedAt: 2025-10-24 15:26:59 -0400 (Fri, 24 Oct 2025) EllapsedTime: 17.3 seconds RetCode: 0 Status: OK