Package: cmapR Version: 1.22.0 Command: /home/biocbuild/bbs-3.22-bioc/R/bin/R CMD check --install=check:cmapR.install-out.txt --library=/home/biocbuild/bbs-3.22-bioc/R/site-library --timings cmapR_1.22.0.tar.gz StartedAt: 2025-11-02 22:26:46 -0500 (Sun, 02 Nov 2025) EndedAt: 2025-11-02 22:29:52 -0500 (Sun, 02 Nov 2025) EllapsedTime: 185.2 seconds RetCode: 0 Status: OK CheckDir: cmapR.Rcheck Warnings: 0