Package: cmapR Version: 1.21.0 Command: /home/biocbuild/bbs-3.22-bioc/R/bin/R CMD build --keep-empty-dirs --no-resave-data --md5 cmapR StartedAt: 2025-10-24 17:03:27 -0400 (Fri, 24 Oct 2025) EndedAt: 2025-10-24 17:04:20 -0400 (Fri, 24 Oct 2025) EllapsedTime: 53.1 seconds RetCode: 0 Status: OK PackageFile: cmapR_1.21.0.tar.gz PackageFileSize: 3.821 MiB