Package: cmapR Version: 1.21.0 Command: /Library/Frameworks/R.framework/Resources/bin/R CMD INSTALL cmapR StartedAt: 2025-10-24 15:27:59 -0400 (Fri, 24 Oct 2025) EndedAt: 2025-10-24 15:28:34 -0400 (Fri, 24 Oct 2025) EllapsedTime: 34.9 seconds RetCode: 0 Status: OK