Package: cmapR Version: 1.21.0 Command: /Library/Frameworks/R.framework/Resources/bin/R CMD build --keep-empty-dirs --no-resave-data cmapR StartedAt: 2025-10-24 16:35:22 -0400 (Fri, 24 Oct 2025) EndedAt: 2025-10-24 16:36:33 -0400 (Fri, 24 Oct 2025) EllapsedTime: 70.9 seconds RetCode: 0 Status: OK PackageFile: cmapR_1.21.0.tar.gz PackageFileSize: 3.738 MiB