Package: cmapR Version: 1.21.0 Command: rm -rf cmapR.buildbin-libdir && mkdir cmapR.buildbin-libdir && /Users/biocbuild/BBS/utils/build-universal.sh cmapR_1.21.0.tar.gz /Library/Frameworks/R.framework/Resources/bin/R cmapR.buildbin-libdir StartedAt: 2025-10-25 01:33:31 -0400 (Sat, 25 Oct 2025) EndedAt: 2025-10-25 01:34:11 -0400 (Sat, 25 Oct 2025) EllapsedTime: 40.2 seconds RetCode: 0 Status: OK PackageFile: cmapR_1.21.0.tgz PackageFileSize: 3.965 MiB