Package: cmapR Version: 1.21.0 Command: /Library/Frameworks/R.framework/Resources/bin/R CMD INSTALL cmapR StartedAt: 2025-10-27 15:13:33 -0400 (Mon, 27 Oct 2025) EndedAt: 2025-10-27 15:13:44 -0400 (Mon, 27 Oct 2025) EllapsedTime: 10.6 seconds RetCode: 0 Status: OK