Package: cmapR Version: 1.21.0 Command: /Library/Frameworks/R.framework/Resources/bin/R CMD build --keep-empty-dirs --no-resave-data cmapR StartedAt: 2025-10-26 15:59:39 -0400 (Sun, 26 Oct 2025) EndedAt: 2025-10-26 16:00:06 -0400 (Sun, 26 Oct 2025) EllapsedTime: 27.3 seconds RetCode: 1 Status: ERROR PackageFile: None PackageFileSize: NA