Package: clustifyr Version: 1.21.0 Command: /home/biocbuild/R/R/bin/R CMD INSTALL clustifyr StartedAt: 2025-10-23 20:38:41 -0000 (Thu, 23 Oct 2025) EndedAt: 2025-10-23 20:39:26 -0000 (Thu, 23 Oct 2025) EllapsedTime: 44.2 seconds RetCode: 0 Status: OK