Package: clustifyr Version: 1.21.0 Command: /home/biocbuild/R/R/bin/R CMD build --keep-empty-dirs --no-resave-data clustifyr StartedAt: 2025-10-20 22:47:50 -0000 (Mon, 20 Oct 2025) EndedAt: 2025-10-20 22:49:12 -0000 (Mon, 20 Oct 2025) EllapsedTime: 82.0 seconds RetCode: 0 Status: OK PackageFile: clustifyr_1.21.0.tar.gz PackageFileSize: 2.89 MiB