Package: clustifyr Version: 1.21.0 Command: /home/biocbuild/bbs-3.22-bioc/R/bin/R CMD INSTALL clustifyr StartedAt: 2025-10-24 15:29:29 -0400 (Fri, 24 Oct 2025) EndedAt: 2025-10-24 15:30:01 -0400 (Fri, 24 Oct 2025) EllapsedTime: 32.6 seconds RetCode: 0 Status: OK