Package: clustifyr Version: 1.21.0 Command: /Library/Frameworks/R.framework/Resources/bin/R CMD INSTALL clustifyr StartedAt: 2025-10-24 15:28:10 -0400 (Fri, 24 Oct 2025) EndedAt: 2025-10-24 15:28:54 -0400 (Fri, 24 Oct 2025) EllapsedTime: 44.7 seconds RetCode: 0 Status: OK