Package: clustifyr Version: 1.22.0 Command: /Library/Frameworks/R.framework/Resources/bin/R CMD check --install=check:clustifyr.install-out.txt --library=/Library/Frameworks/R.framework/Resources/library --no-vignettes --timings clustifyr_1.22.0.tar.gz StartedAt: 2025-10-31 19:05:38 -0400 (Fri, 31 Oct 2025) EndedAt: 2025-10-31 19:10:42 -0400 (Fri, 31 Oct 2025) EllapsedTime: 303.8 seconds RetCode: 0 Status: OK CheckDir: clustifyr.Rcheck Warnings: 0