Package: clustifyr Version: 1.21.0 Command: /Library/Frameworks/R.framework/Resources/bin/R CMD build --keep-empty-dirs --no-resave-data clustifyr StartedAt: 2025-10-24 16:00:48 -0400 (Fri, 24 Oct 2025) EndedAt: 2025-10-24 16:01:12 -0400 (Fri, 24 Oct 2025) EllapsedTime: 24.3 seconds RetCode: 0 Status: OK PackageFile: clustifyr_1.21.0.tar.gz PackageFileSize: 3.235 MiB