Package: clusterStab Version: 1.81.0 Command: /home/biocbuild/bbs-3.22-bioc/R/bin/R CMD build --keep-empty-dirs --no-resave-data --md5 clusterStab StartedAt: 2025-10-24 17:03:10 -0400 (Fri, 24 Oct 2025) EndedAt: 2025-10-24 17:03:23 -0400 (Fri, 24 Oct 2025) EllapsedTime: 13.0 seconds RetCode: 0 Status: OK PackageFile: clusterStab_1.81.0.tar.gz PackageFileSize: 186.1 KiB