Package: clusterStab Version: 1.81.0 Command: /Library/Frameworks/R.framework/Resources/bin/R CMD INSTALL clusterStab StartedAt: 2025-10-24 15:22:36 -0400 (Fri, 24 Oct 2025) EndedAt: 2025-10-24 15:22:43 -0400 (Fri, 24 Oct 2025) EllapsedTime: 6.9 seconds RetCode: 0 Status: OK