Package: clusterStab Version: 1.81.0 Command: rm -rf clusterStab.buildbin-libdir && mkdir clusterStab.buildbin-libdir && /Users/biocbuild/BBS/utils/build-universal.sh clusterStab_1.81.0.tar.gz /Library/Frameworks/R.framework/Resources/bin/R clusterStab.buildbin-libdir StartedAt: 2025-10-25 01:33:28 -0400 (Sat, 25 Oct 2025) EndedAt: 2025-10-25 01:33:37 -0400 (Sat, 25 Oct 2025) EllapsedTime: 8.2 seconds RetCode: 0 Status: OK PackageFile: clusterStab_1.81.0.tgz PackageFileSize: 342.4 KiB