Package: clusterStab Version: 1.81.0 Command: /Library/Frameworks/R.framework/Resources/bin/R CMD build --keep-empty-dirs --no-resave-data clusterStab StartedAt: 2025-10-24 16:00:42 -0400 (Fri, 24 Oct 2025) EndedAt: 2025-10-24 16:00:48 -0400 (Fri, 24 Oct 2025) EllapsedTime: 6.1 seconds RetCode: 0 Status: OK PackageFile: clusterStab_1.81.0.tar.gz PackageFileSize: 185.5 KiB