Package: clusterSeq Version: 1.33.0 Command: /home/biocbuild/R/R/bin/R CMD build --keep-empty-dirs --no-resave-data clusterSeq StartedAt: 2025-10-20 22:47:28 -0000 (Mon, 20 Oct 2025) EndedAt: 2025-10-20 22:48:55 -0000 (Mon, 20 Oct 2025) EllapsedTime: 87.0 seconds RetCode: 0 Status: OK PackageFile: clusterSeq_1.33.0.tar.gz PackageFileSize: 1.001 MiB