Package: clusterSeq Version: 1.33.0 Command: /home/biocbuild/bbs-3.22-bioc/R/bin/R CMD check --install=check:clusterSeq.install-out.txt --library=/home/biocbuild/bbs-3.22-bioc/R/site-library --timings clusterSeq_1.33.0.tar.gz StartedAt: 2025-10-24 22:17:09 -0400 (Fri, 24 Oct 2025) EndedAt: 2025-10-24 22:21:00 -0400 (Fri, 24 Oct 2025) EllapsedTime: 231.2 seconds RetCode: 0 Status: OK CheckDir: clusterSeq.Rcheck Warnings: 0