Package: clusterSeq Version: 1.33.0 Command: /Library/Frameworks/R.framework/Resources/bin/R CMD build --keep-empty-dirs --no-resave-data clusterSeq StartedAt: 2025-10-24 16:34:53 -0400 (Fri, 24 Oct 2025) EndedAt: 2025-10-24 16:36:00 -0400 (Fri, 24 Oct 2025) EllapsedTime: 66.3 seconds RetCode: 0 Status: OK PackageFile: clusterSeq_1.33.0.tar.gz PackageFileSize: 1.008 MiB