Package: clusterSeq Version: 1.33.0 Command: rm -rf clusterSeq.buildbin-libdir && mkdir clusterSeq.buildbin-libdir && /Users/biocbuild/BBS/utils/build-universal.sh clusterSeq_1.33.0.tar.gz /Library/Frameworks/R.framework/Resources/bin/R clusterSeq.buildbin-libdir StartedAt: 2025-10-24 22:58:08 -0400 (Fri, 24 Oct 2025) EndedAt: 2025-10-24 22:58:15 -0400 (Fri, 24 Oct 2025) EllapsedTime: 6.2 seconds RetCode: 0 Status: OK PackageFile: clusterSeq_1.33.0.tgz PackageFileSize: 1.053 MiB