Package: clusterProfiler Version: 4.17.0 Command: /home/biocbuild/R/R/bin/R CMD INSTALL clusterProfiler StartedAt: 2025-10-23 21:10:56 -0000 (Thu, 23 Oct 2025) EndedAt: 2025-10-23 21:11:29 -0000 (Thu, 23 Oct 2025) EllapsedTime: 33.2 seconds RetCode: 0 Status: OK