Package: clusterProfiler Version: 4.17.0 Command: /home/biocbuild/bbs-3.22-bioc/R/bin/R CMD INSTALL clusterProfiler StartedAt: 2025-10-24 15:57:28 -0400 (Fri, 24 Oct 2025) EndedAt: 2025-10-24 15:57:53 -0400 (Fri, 24 Oct 2025) EllapsedTime: 24.9 seconds RetCode: 0 Status: OK