Package: clusterProfiler Version: 4.17.0 Command: /home/biocbuild/bbs-3.22-bioc/R/bin/R CMD check --install=check:clusterProfiler.install-out.txt --library=/home/biocbuild/bbs-3.22-bioc/R/site-library --timings clusterProfiler_4.17.0.tar.gz StartedAt: 2025-10-24 22:17:05 -0400 (Fri, 24 Oct 2025) EndedAt: 2025-10-24 22:20:42 -0400 (Fri, 24 Oct 2025) EllapsedTime: 217.2 seconds RetCode: 0 Status: OK CheckDir: clusterProfiler.Rcheck Warnings: 0