Package: clusterProfiler Version: 4.17.0 Command: /Library/Frameworks/R.framework/Resources/bin/R CMD INSTALL clusterProfiler StartedAt: 2025-10-24 15:48:41 -0400 (Fri, 24 Oct 2025) EndedAt: 2025-10-24 15:49:17 -0400 (Fri, 24 Oct 2025) EllapsedTime: 35.6 seconds RetCode: 0 Status: OK