Package: clusterExperiment Version: 2.29.1 Command: /home/biocbuild/bbs-3.22-bioc/R/bin/R CMD INSTALL clusterExperiment StartedAt: 2025-10-24 16:03:44 -0400 (Fri, 24 Oct 2025) EndedAt: 2025-10-24 16:05:01 -0400 (Fri, 24 Oct 2025) EllapsedTime: 77.0 seconds RetCode: 0 Status: OK