Package: clusterExperiment Version: 2.29.1 Command: /home/biocbuild/bbs-3.22-bioc/R/bin/R CMD check --install=check:clusterExperiment.install-out.txt --library=/home/biocbuild/bbs-3.22-bioc/R/site-library --timings clusterExperiment_2.29.1.tar.gz StartedAt: 2025-10-27 22:08:40 -0400 (Mon, 27 Oct 2025) EndedAt: 2025-10-27 22:26:38 -0400 (Mon, 27 Oct 2025) EllapsedTime: 1078.1 seconds RetCode: 0 Status: WARNINGS CheckDir: clusterExperiment.Rcheck Warnings: 2