Package: clusterExperiment Version: 2.29.1 Command: /Library/Frameworks/R.framework/Resources/bin/R CMD INSTALL clusterExperiment StartedAt: 2025-10-27 15:45:44 -0400 (Mon, 27 Oct 2025) EndedAt: 2025-10-27 15:47:27 -0400 (Mon, 27 Oct 2025) EllapsedTime: 103.2 seconds RetCode: 0 Status: OK