Package: clusterExperiment Version: 2.29.1 Command: /Library/Frameworks/R.framework/Resources/bin/R CMD build --keep-empty-dirs --no-resave-data clusterExperiment StartedAt: 2025-10-24 16:34:32 -0400 (Fri, 24 Oct 2025) EndedAt: 2025-10-24 16:40:18 -0400 (Fri, 24 Oct 2025) EllapsedTime: 346.0 seconds RetCode: 0 Status: OK PackageFile: clusterExperiment_2.29.1.tar.gz PackageFileSize: 11.98 MiB