Package: clusterExperiment Version: 2.29.1 Command: /Library/Frameworks/R.framework/Resources/bin/R CMD INSTALL clusterExperiment StartedAt: 2025-10-24 15:31:40 -0400 (Fri, 24 Oct 2025) EndedAt: 2025-10-24 15:32:09 -0400 (Fri, 24 Oct 2025) EllapsedTime: 29.0 seconds RetCode: 0 Status: OK