Package: clusterExperiment Version: 2.29.1 Command: /Library/Frameworks/R.framework/Resources/bin/R CMD build --keep-empty-dirs --no-resave-data clusterExperiment StartedAt: 2025-10-24 16:00:26 -0400 (Fri, 24 Oct 2025) EndedAt: 2025-10-24 16:02:25 -0400 (Fri, 24 Oct 2025) EllapsedTime: 119.4 seconds RetCode: 0 Status: OK PackageFile: clusterExperiment_2.29.1.tar.gz PackageFileSize: 11.98 MiB