Package: clusterExperiment Version: 2.29.1 Maintainer: Elizabeth Purdom MaintainerEmail: epurdom at stat.berkeley.edu git_url: https://git.bioconductor.org/packages/clusterExperiment git_branch: devel git_last_commit: a2c5554 git_last_commit_date: 2025-10-14 14:40:31 -0400 (Tue, 14 Oct 2025)