Package: clustSIGNAL Version: 1.1.1 Command: /home/biocbuild/R/R/bin/R CMD build --keep-empty-dirs --no-resave-data clustSIGNAL StartedAt: 2025-10-20 22:48:07 -0000 (Mon, 20 Oct 2025) EndedAt: 2025-10-20 22:50:10 -0000 (Mon, 20 Oct 2025) EllapsedTime: 123.1 seconds RetCode: 0 Status: OK PackageFile: clustSIGNAL_1.1.1.tar.gz PackageFileSize: 4.029 MiB