Package: clustSIGNAL Version: 1.1.1 Command: /home/biocbuild/bbs-3.22-bioc/R/bin/R CMD INSTALL clustSIGNAL StartedAt: 2025-10-24 16:06:19 -0400 (Fri, 24 Oct 2025) EndedAt: 2025-10-24 16:06:50 -0400 (Fri, 24 Oct 2025) EllapsedTime: 30.8 seconds RetCode: 0 Status: OK