Package: clustSIGNAL Version: 1.1.1 Command: /home/biocbuild/bbs-3.22-bioc/R/bin/R CMD check --install=check:clustSIGNAL.install-out.txt --library=/home/biocbuild/bbs-3.22-bioc/R/site-library --timings clustSIGNAL_1.1.1.tar.gz StartedAt: 2025-10-24 22:19:25 -0400 (Fri, 24 Oct 2025) EndedAt: 2025-10-24 22:24:11 -0400 (Fri, 24 Oct 2025) EllapsedTime: 286.3 seconds RetCode: 0 Status: OK CheckDir: clustSIGNAL.Rcheck Warnings: 0