Package: clustSIGNAL Version: 1.1.1 Command: rm -rf clustSIGNAL.buildbin-libdir && mkdir clustSIGNAL.buildbin-libdir && /Users/biocbuild/BBS/utils/build-universal.sh clustSIGNAL_1.1.1.tar.gz /Library/Frameworks/R.framework/Resources/bin/R clustSIGNAL.buildbin-libdir StartedAt: 2025-10-25 01:33:28 -0400 (Sat, 25 Oct 2025) EndedAt: 2025-10-25 01:34:15 -0400 (Sat, 25 Oct 2025) EllapsedTime: 46.1 seconds RetCode: 0 Status: OK PackageFile: clustSIGNAL_1.1.1.tgz PackageFileSize: 4.613 MiB