Package: clustSIGNAL Version: 1.1.1 Command: /Library/Frameworks/R.framework/Resources/bin/R CMD INSTALL clustSIGNAL StartedAt: 2025-10-26 15:30:28 -0400 (Sun, 26 Oct 2025) EndedAt: 2025-10-26 15:30:41 -0400 (Sun, 26 Oct 2025) EllapsedTime: 13.5 seconds RetCode: 0 Status: OK