Package: clustSIGNAL Version: 1.1.1 Maintainer: Pratibha Panwar MaintainerEmail: pratibhapanwar.4 at gmail.com git_url: https://git.bioconductor.org/packages/clustSIGNAL git_branch: devel git_last_commit: 2582377 git_last_commit_date: 2025-10-14 14:33:45 -0400 (Tue, 14 Oct 2025)