Package: clustComp Version: 1.37.0 Command: /home/biocbuild/R/R/bin/R CMD INSTALL clustComp StartedAt: 2025-10-23 20:16:48 -0000 (Thu, 23 Oct 2025) EndedAt: 2025-10-23 20:17:01 -0000 (Thu, 23 Oct 2025) EllapsedTime: 12.3 seconds RetCode: 0 Status: OK