Package: clustComp Version: 1.37.0 Command: /home/biocbuild/R/R/bin/R CMD build --keep-empty-dirs --no-resave-data clustComp StartedAt: 2025-10-20 22:46:55 -0000 (Mon, 20 Oct 2025) EndedAt: 2025-10-20 22:48:09 -0000 (Mon, 20 Oct 2025) EllapsedTime: 74.0 seconds RetCode: 0 Status: OK PackageFile: clustComp_1.37.0.tar.gz PackageFileSize: 924.9 KiB